BEGIN:VCALENDAR
VERSION:2.0
PRODID:-//Obuda University&#039;s Kenyan Office - ECPv6.0.8//NONSGML v1.0//EN
CALSCALE:GREGORIAN
METHOD:PUBLISH
X-ORIGINAL-URL:https://studyhungaryafrica.uni-obuda.hu
X-WR-CALDESC:Events for Obuda University&#039;s Kenyan Office
REFRESH-INTERVAL;VALUE=DURATION:PT1H
X-Robots-Tag:noindex
X-PUBLISHED-TTL:PT1H
BEGIN:VTIMEZONE
TZID:UTC
BEGIN:STANDARD
TZOFFSETFROM:+0000
TZOFFSETTO:+0000
TZNAME:UTC
DTSTART:20240101T000000
END:STANDARD
END:VTIMEZONE
BEGIN:VEVENT
DTSTART;TZID=UTC:20240919T090000
DTEND;TZID=UTC:20240921T150000
DTSTAMP:20260423T004716
CREATED:20240912T083818Z
LAST-MODIFIED:20240916T091645Z
UID:225581-1726736400-1726930800@studyhungaryafrica.uni-obuda.hu
SUMMARY:IEEE 22nd International Symposium on Intelligent Systems and Informatics (SISY 2024)
DESCRIPTION:Authors are welcome to submit original and unpublished papers which are not currently under review by another conference or journal and addressing state-of-the-art research to share their work in all areas of Intelligent Systems and Informatics and its applications and attend the IEEE 22nd International Symposium on Intelligent Systems and Informatics (SISY 2024) to be held on September 19-21\, 2024 in Pula\, Croatia. \nConference proceedings that meet IEEE quality review standards may be eligible for inclusion in the IEEE Xplore Digital Library. \nThe aim of SISY 2024 symposium is to offer researchers an opportunity to extend the existing scientific relationships all over the world in the field of Intelligent Systems. Our hope is that researchers and lecturers working at various institutions will find common research areas at the conference so that they can cooperate on bilateral or international projects. \nConditions: \nRegistration fee \nRegistration required \nRoom \nWebsite: http://conf.uni-obuda.hu/sisy2024
URL:https://studyhungaryafrica.uni-obuda.hu/event/ieee-22nd-international-symposium-on-intelligent-systems-and-informatics-sisy-2024/
LOCATION:IEEE 22nd International Symposium on Intelligent Systems and Informatics (SISY 2024)\, 52100 Pula Preradovićeva 1/1
ATTACH;FMTTYPE=image/jpeg:https://studyhungaryafrica.uni-obuda.hu/wp-content/uploads/2024/09/sisy2024_banner_0-1.jpg
END:VEVENT
BEGIN:VEVENT
DTSTART;TZID=UTC:20241107T080000
DTEND;TZID=UTC:20241108T180000
DTSTAMP:20260423T004716
CREATED:20240912T092912Z
LAST-MODIFIED:20240916T091554Z
UID:225589-1730966400-1731088800@studyhungaryafrica.uni-obuda.hu
SUMMARY:ICCECIP2024 - 6th International Conference on Central European Critical Infrastructure Protection
DESCRIPTION:The „ICCECIP 2024—6th International Conference on Central European Critical Infrastructure Protection” will be held this year as part of the Hungarian Science Festival in personal form in Obuda University Bánki Donát Faculty of Mechanical and Safety Engineering at 7-8 November 2024. The weather conditions of recent years have shown the importance of the water\, which in itself is a prominent element of critical infrastructure\, has in everyday life. Water\, which is the constituent of living organisms\, can be both a blessing and a curse. A lot of water can appear as a devastating price\, while a lack of water can cause drought and famine. \nThe new motto of this year’s conference is “Water as a cardinal area of the critical infrastructure protection.” \nThe key goal is to highlight the unity of our region and give space for all researchers around the World\, experienced and young researchers\, and PhD students to share their latest results and the public. The region’s common historical and cultural past\, as well as the common development path of the last centuries of continuous cooperation\, connects our countries and lays the foundations for future common goals. The ICCECIP 2024 also serves to foster communication among researchers and engineers working in a wide variety of scientific areas with a common interest. The meeting will provide an opportunity to highlight recent developments and identify emerging and future growth areas in this exciting field. Also\, the conference program includes oral presentations and poster sessions from scientists working in similar areas to establish a platform for collaborative research projects in this field. \nLocation:\nRoom J200
URL:https://studyhungaryafrica.uni-obuda.hu/event/iccecip2024-6th-international-conference-on-central-european-critical-infrastructure-protection/
LOCATION:1088 Budapest\, József körút 6.\, 1088 Budapest\, József körút 6.\, Budapest\, 1088\, Hungary
ATTACH;FMTTYPE=image/png:https://studyhungaryafrica.uni-obuda.hu/wp-content/uploads/2024/09/iccecip2024.png
END:VEVENT
BEGIN:VEVENT
DTSTART;TZID=UTC:20241119T090000
DTEND;TZID=UTC:20241121T150000
DTSTAMP:20260423T004716
CREATED:20240912T093600Z
LAST-MODIFIED:20240916T091625Z
UID:225592-1732006800-1732201200@studyhungaryafrica.uni-obuda.hu
SUMMARY:24th IEEE International Symposium on Computational Intelligence and Informatics (CINTI 2024)
DESCRIPTION:The Symposium is organized with the focus of bringing together scientists from any country working on computational intelligence and its applications with the aims at providing an opportunity for sharing and discussing the recent research developments in this field. The idea is to have a small number of lecturers and participants in a relaxed and informal atmosphere. \nThe fields of interests of the conference include disciplines which are merged in the area of ‘Soft Computing’\, ‘Intelligent Techniques’ or ‘Computational Intelligence’. \nConditions: \nRegistration fee \nRegistration required \nLocation: \nF07\, F08\, F09\, aula\, bridge \nWebsite: http://conf.uni-obuda.hu/cinti2024
URL:https://studyhungaryafrica.uni-obuda.hu/event/24th-ieee-international-symposium-on-computational-intelligence-and-informatics-cinti-2024/
LOCATION:1034 Budapest\, Bécsi út 96/B\, 1034 Budapest\, Bécsi út 96/B\, Budapest\, 1034\, Hungary
ATTACH;FMTTYPE=image/jpeg:https://studyhungaryafrica.uni-obuda.hu/wp-content/uploads/2024/09/cinti2024banner_0.jpg
END:VEVENT
END:VCALENDAR